BEGIN:VCALENDAR
VERSION:2.0
PRODID:-//Promise of Peace - ECPv6.15.20//NONSGML v1.0//EN
CALSCALE:GREGORIAN
METHOD:PUBLISH
X-ORIGINAL-URL:https://promiseofpeace.us
X-WR-CALDESC:Events for Promise of Peace
REFRESH-INTERVAL;VALUE=DURATION:PT1H
X-Robots-Tag:noindex
X-PUBLISHED-TTL:PT1H
BEGIN:VTIMEZONE
TZID:America/Chicago
BEGIN:DAYLIGHT
TZOFFSETFROM:-0600
TZOFFSETTO:-0500
TZNAME:CDT
DTSTART:20240310T080000
END:DAYLIGHT
BEGIN:STANDARD
TZOFFSETFROM:-0500
TZOFFSETTO:-0600
TZNAME:CST
DTSTART:20241103T070000
END:STANDARD
BEGIN:DAYLIGHT
TZOFFSETFROM:-0600
TZOFFSETTO:-0500
TZNAME:CDT
DTSTART:20250309T080000
END:DAYLIGHT
BEGIN:STANDARD
TZOFFSETFROM:-0500
TZOFFSETTO:-0600
TZNAME:CST
DTSTART:20251102T070000
END:STANDARD
BEGIN:DAYLIGHT
TZOFFSETFROM:-0600
TZOFFSETTO:-0500
TZNAME:CDT
DTSTART:20260308T080000
END:DAYLIGHT
BEGIN:STANDARD
TZOFFSETFROM:-0500
TZOFFSETTO:-0600
TZNAME:CST
DTSTART:20261101T070000
END:STANDARD
BEGIN:DAYLIGHT
TZOFFSETFROM:-0600
TZOFFSETTO:-0500
TZNAME:CDT
DTSTART:20270314T080000
END:DAYLIGHT
BEGIN:STANDARD
TZOFFSETFROM:-0500
TZOFFSETTO:-0600
TZNAME:CST
DTSTART:20271107T070000
END:STANDARD
END:VTIMEZONE
BEGIN:VEVENT
DTSTART;TZID=America/Chicago:20260316T120000
DTEND;TZID=America/Chicago:20260316T140000
DTSTAMP:20260421T060720
CREATED:20260116T173739Z
LAST-MODIFIED:20260116T173739Z
UID:7085-1773662400-1773669600@promiseofpeace.us
SUMMARY:Dr Ruby K Payne will be at Lunch and Learn at Bob Wells Nursery
DESCRIPTION:Dr Ruby K Payne will be conducting a powerful Lunch and Learn at Bob Wells Nursery.  Tickets on sale – 25.00 contact Elizabeth 214 240 9220
URL:https://promiseofpeace.us/event/dr-ruby-k-payne-will-be-at-lunch-and-learn-at-bob-wells-nursery/
CATEGORIES:Community Work and Learn Days
ATTACH;FMTTYPE=image/png:https://promiseofpeace.us/wp-content/uploads/2026/01/Screenshot-2026-01-16-at-11.36.50-AM.png
END:VEVENT
BEGIN:VEVENT
DTSTART;TZID=America/Chicago:20250811T090000
DTEND;TZID=America/Chicago:20250811T120000
DTSTAMP:20260421T060720
CREATED:20250611T154008Z
LAST-MODIFIED:20250611T154008Z
UID:6905-1754902800-1754913600@promiseofpeace.us
SUMMARY:Work and Learn Day
DESCRIPTION:by arrangement with Elizabeth Dry at 214-240-9220 \nGoogle Map Location
URL:https://promiseofpeace.us/event/work-and-learn-day-9/
CATEGORIES:Community Work and Learn Days
ATTACH;FMTTYPE=image/jpeg:https://promiseofpeace.us/wp-content/uploads/2025/03/IMG_4360-scaled.jpg
END:VEVENT
BEGIN:VEVENT
DTSTART;TZID=America/Chicago:20250804T090000
DTEND;TZID=America/Chicago:20250804T120000
DTSTAMP:20260421T060720
CREATED:20250611T153948Z
LAST-MODIFIED:20250611T153948Z
UID:6904-1754298000-1754308800@promiseofpeace.us
SUMMARY:Work and Learn Day
DESCRIPTION:by arrangement with Elizabeth Dry at 214-240-9220 \nGoogle Map Location
URL:https://promiseofpeace.us/event/work-and-learn-day-8/
CATEGORIES:Community Work and Learn Days
ATTACH;FMTTYPE=image/jpeg:https://promiseofpeace.us/wp-content/uploads/2025/03/IMG_4360-scaled.jpg
END:VEVENT
BEGIN:VEVENT
DTSTART;TZID=America/Chicago:20250728T090000
DTEND;TZID=America/Chicago:20250728T120000
DTSTAMP:20260421T060720
CREATED:20250611T153909Z
LAST-MODIFIED:20250611T153909Z
UID:6901-1753693200-1753704000@promiseofpeace.us
SUMMARY:Work and Learn Day
DESCRIPTION:by arrangement with Elizabeth Dry at 214-240-9220 \nGoogle Map Location
URL:https://promiseofpeace.us/event/work-and-learn-day-7/
CATEGORIES:Community Work and Learn Days
ATTACH;FMTTYPE=image/jpeg:https://promiseofpeace.us/wp-content/uploads/2025/03/IMG_4360-scaled.jpg
END:VEVENT
BEGIN:VEVENT
DTSTART;TZID=America/Chicago:20250721T090000
DTEND;TZID=America/Chicago:20250721T120000
DTSTAMP:20260421T060720
CREATED:20250611T153853Z
LAST-MODIFIED:20250611T153853Z
UID:6900-1753088400-1753099200@promiseofpeace.us
SUMMARY:Work and Learn Day
DESCRIPTION:by arrangement with Elizabeth Dry at 214-240-9220 \nGoogle Map Location
URL:https://promiseofpeace.us/event/work-and-learn-day-6/
CATEGORIES:Community Work and Learn Days
ATTACH;FMTTYPE=image/jpeg:https://promiseofpeace.us/wp-content/uploads/2025/03/IMG_4360-scaled.jpg
END:VEVENT
BEGIN:VEVENT
DTSTART;TZID=America/Chicago:20250714T090000
DTEND;TZID=America/Chicago:20250714T120000
DTSTAMP:20260421T060720
CREATED:20250611T153811Z
LAST-MODIFIED:20250611T153811Z
UID:6898-1752483600-1752494400@promiseofpeace.us
SUMMARY:Work and Learn Day
DESCRIPTION:by arrangement with Elizabeth Dry at 214-240-9220 \nGoogle Map Location
URL:https://promiseofpeace.us/event/work-and-learn-day-5/
CATEGORIES:Community Work and Learn Days
ATTACH;FMTTYPE=image/jpeg:https://promiseofpeace.us/wp-content/uploads/2025/03/IMG_4360-scaled.jpg
END:VEVENT
BEGIN:VEVENT
DTSTART;TZID=America/Chicago:20250707T090000
DTEND;TZID=America/Chicago:20250707T120000
DTSTAMP:20260421T060720
CREATED:20250611T153737Z
LAST-MODIFIED:20250611T153737Z
UID:6896-1751878800-1751889600@promiseofpeace.us
SUMMARY:Work and Learn Day
DESCRIPTION:by arrangement with Elizabeth Dry at 214-240-9220 \nGoogle Map Location
URL:https://promiseofpeace.us/event/work-and-learn-day-4/
CATEGORIES:Community Work and Learn Days
ATTACH;FMTTYPE=image/jpeg:https://promiseofpeace.us/wp-content/uploads/2025/03/IMG_4360-scaled.jpg
END:VEVENT
BEGIN:VEVENT
DTSTART;TZID=America/Chicago:20250630T090000
DTEND;TZID=America/Chicago:20250630T120000
DTSTAMP:20260421T060720
CREATED:20250611T153658Z
LAST-MODIFIED:20250611T153658Z
UID:6892-1751274000-1751284800@promiseofpeace.us
SUMMARY:Work and Learn Day
DESCRIPTION:by arrangement with Elizabeth Dry at 214-240-9220 \nGoogle Map Location
URL:https://promiseofpeace.us/event/work-and-learn-day-3/
CATEGORIES:Community Work and Learn Days
ATTACH;FMTTYPE=image/jpeg:https://promiseofpeace.us/wp-content/uploads/2025/03/IMG_4360-scaled.jpg
END:VEVENT
BEGIN:VEVENT
DTSTART;TZID=America/Chicago:20250623T090000
DTEND;TZID=America/Chicago:20250623T120000
DTSTAMP:20260421T060720
CREATED:20250610T142509Z
LAST-MODIFIED:20250611T143053Z
UID:6890-1750669200-1750680000@promiseofpeace.us
SUMMARY:Work and Learn Day
DESCRIPTION:by arrangement with Elizabeth Dry at 214-240-9220 \nGoogle Map Location
URL:https://promiseofpeace.us/event/work-and-learn-day-2/
CATEGORIES:Community Work and Learn Days
ATTACH;FMTTYPE=image/jpeg:https://promiseofpeace.us/wp-content/uploads/2025/03/IMG_4360-scaled.jpg
END:VEVENT
BEGIN:VEVENT
DTSTART;TZID=America/Chicago:20250616T090000
DTEND;TZID=America/Chicago:20250616T120000
DTSTAMP:20260421T060720
CREATED:20250610T142151Z
LAST-MODIFIED:20250611T143143Z
UID:6886-1750064400-1750075200@promiseofpeace.us
SUMMARY:Work and Learn Day
DESCRIPTION:by arrangement with Elizabeth Dry at 214-240-9220 \nGoogle Map Location
URL:https://promiseofpeace.us/event/work-and-learn-day/
CATEGORIES:Community Work and Learn Days
ATTACH;FMTTYPE=image/jpeg:https://promiseofpeace.us/wp-content/uploads/2025/03/IMG_4360-scaled.jpg
END:VEVENT
END:VCALENDAR